BEGIN:VCALENDAR
VERSION:2.0
PRODID:-//Oregon Marine Reserves - ECPv6.15.19//NONSGML v1.0//EN
CALSCALE:GREGORIAN
METHOD:PUBLISH
X-ORIGINAL-URL:http://mail.oregonmarinereserves.com
X-WR-CALDESC:Events for Oregon Marine Reserves
REFRESH-INTERVAL;VALUE=DURATION:PT1H
X-Robots-Tag:noindex
X-PUBLISHED-TTL:PT1H
BEGIN:VTIMEZONE
TZID:America/Los_Angeles
BEGIN:DAYLIGHT
TZOFFSETFROM:-0800
TZOFFSETTO:-0700
TZNAME:PDT
DTSTART:20250309T100000
END:DAYLIGHT
BEGIN:STANDARD
TZOFFSETFROM:-0700
TZOFFSETTO:-0800
TZNAME:PST
DTSTART:20251102T090000
END:STANDARD
BEGIN:DAYLIGHT
TZOFFSETFROM:-0800
TZOFFSETTO:-0700
TZNAME:PDT
DTSTART:20260308T100000
END:DAYLIGHT
BEGIN:STANDARD
TZOFFSETFROM:-0700
TZOFFSETTO:-0800
TZNAME:PST
DTSTART:20261101T090000
END:STANDARD
BEGIN:DAYLIGHT
TZOFFSETFROM:-0800
TZOFFSETTO:-0700
TZNAME:PDT
DTSTART:20270314T100000
END:DAYLIGHT
BEGIN:STANDARD
TZOFFSETFROM:-0700
TZOFFSETTO:-0800
TZNAME:PST
DTSTART:20271107T090000
END:STANDARD
END:VTIMEZONE
BEGIN:VEVENT
DTSTART;TZID=America/Los_Angeles:20260316T130000
DTEND;TZID=America/Los_Angeles:20260316T180000
DTSTAMP:20260419T134328
CREATED:20251125T221134Z
LAST-MODIFIED:20260313T042711Z
UID:6653-1773666000-1773684000@mail.oregonmarinereserves.com
SUMMARY:Nearshore Ecology Program Annual Meeting
DESCRIPTION:Save the date for the first Nearshore Ecology Program Annual Meeting! The agenda is available here. Participants can expect to learn about the new ODFW Nearshore Ecology Program\, work of the Marine Reserves & Marine Habitat Teams\, and research and conservation efforts in Oregon’s marine reserves & nearshore environments. Dive deeper into the stories showcased in the Nearshore Ecology Program’s 2025 Year in Review. The meeting will be held at the Carmen Ford Phillips Auditorium in the Gladys Valley Marine Studies Building (2030 SE Marine Science Dr\, Newport\, OR) followed by a networking reception. While in person attendance is preferred\, there will also be a remote viewing option via Teams. Register here. \nAbout the Nearshore Ecology Program\nIn 2025\, ODFW’s Marine Resources Program reorganized the Oregon Marine Reserves Program and Marine Habitat Project into one program. The creation of the new Nearshore Ecology Program culminates a vision to bring efforts focused on marine conservation and nearshore habitat research under one roof. The Nearshore Ecology Program aims to strengthen collaborations\, techniques\, and teamwork around two groups historically focused on marine conservation science.
URL:http://mail.oregonmarinereserves.com/event/nep26/
LOCATION:2030 SE Marine Science Dr\, Newport\, OR 97365\, 2030 SE Marine Science Dr\, Newport\, OR\, 97365\, United States
ATTACH;FMTTYPE=image/png:http://mail.oregonmarinereserves.com/content/uploads/2025/11/NEP-Save-the-Date-5.png
END:VEVENT
END:VCALENDAR